BEGIN:VCALENDAR
VERSION:2.0
PRODID:https://www.flvwdialog.de
METHOD:PUBLISH
BEGIN:VEVENT
DTSTART;TZID=Europe/Berlin:20260604T120000
DESCRIPTION:Heute Abend Meldeschluss - Erzeugt durch https://www.flvwdialog.de/info.php?id=21786
LOCATION:Gladbeck
SUMMARY:Heute Abend Meldeschluss - FLVW Meisterschaften I und II
UID:MS
SEQUENCE:0
DTSTAMP;TZID=Europe/Berlin:20260424T173217
END:VEVENT
END:VCALENDAR



