BEGIN:VCALENDAR
VERSION:2.0
PRODID:https://www.flvwdialog.de
METHOD:PUBLISH
BEGIN:VEVENT
DTSTART;TZID=Europe/Berlin:20260610T120000
DESCRIPTION:Heute Abend Meldeschluss - Erzeugt durch https://www.flvwdialog.de/info.php?id=21787
LOCATION:Lage	
SUMMARY:Heute Abend Meldeschluss - FLVW Meisterschaften III
UID:MS
SEQUENCE:0
DTSTAMP;TZID=Europe/Berlin:20260424T173626
END:VEVENT
END:VCALENDAR



