BEGIN:VCALENDAR
VERSION:2.0
PRODID:https://www.flvwdialog.de
METHOD:PUBLISH
BEGIN:VEVENT
DTSTART;TZID=Europe/Berlin:20260926T000000
DESCRIPTION:Erzeugt durch https://www.flvwdialog.de/info.php?id=21793
LOCATION:Hagen
SUMMARY:FLVW Team-Finale Jugend
UID:
SEQUENCE:0
DTSTAMP;TZID=Europe/Berlin:20260424T220507
END:VEVENT
END:VCALENDAR



