BEGIN:VCALENDAR
VERSION:2.0
PRODID:https://www.flvwdialog.de
METHOD:PUBLISH
BEGIN:VEVENT
DTSTART;TZID=Europe/Berlin:20260522T164500
DESCRIPTION:Erzeugt durch https://www.flvwdialog.de/info.php?id=21801
LOCATION:Oerlinghausen
SUMMARY:5. Helpuper Dorffestlauf
UID:
SEQUENCE:0
DTSTAMP;TZID=Europe/Berlin:20260424T220507
END:VEVENT
END:VCALENDAR



