BEGIN:VCALENDAR
VERSION:2.0
PRODID:https://www.flvwdialog.de
METHOD:PUBLISH
BEGIN:VEVENT
DTSTART;TZID=Europe/Berlin:20260627T000000
DESCRIPTION:Erzeugt durch https://www.flvwdialog.de/info.php?id=21814
LOCATION:Köln
SUMMARY:Kölner Leichtathletikmeeting 2026
UID:
SEQUENCE:0
DTSTAMP;TZID=Europe/Berlin:20260424T202838
END:VEVENT
END:VCALENDAR



