BEGIN:VCALENDAR
VERSION:2.0
PRODID:https://www.flvwdialog.de
METHOD:PUBLISH
BEGIN:VEVENT
DTSTART;TZID=Europe/Berlin:20260621T120000
DESCRIPTION:Heute Abend Meldeschluss - Erzeugt durch https://www.flvwdialog.de/info.php?id=21814
LOCATION:Köln
SUMMARY:Heute Abend Meldeschluss - Kölner Leichtathletikmeeting 2026
UID:MS
SEQUENCE:0
DTSTAMP;TZID=Europe/Berlin:20260424T202835
END:VEVENT
END:VCALENDAR



