BEGIN:VCALENDAR
VERSION:2.0
PRODID:https://www.flvwdialog.de
METHOD:PUBLISH
BEGIN:VEVENT
DTSTART;TZID=Europe/Berlin:20260612T180000
DESCRIPTION:Erzeugt durch https://www.flvwdialog.de/info.php?id=21818
LOCATION:Blomberg-Donop
SUMMARY:Lippe-Sommer-Serie 2026 Lauf 1: 36. Donoper Volkslauf
UID:
SEQUENCE:0
DTSTAMP;TZID=Europe/Berlin:20260424T175108
END:VEVENT
END:VCALENDAR



