BEGIN:VCALENDAR
VERSION:2.0
PRODID:https://www.flvwdialog.de
METHOD:PUBLISH
BEGIN:VEVENT
DTSTART;TZID=Europe/Berlin:20260619T180000
DESCRIPTION:Erzeugt durch https://www.flvwdialog.de/info.php?id=21819
LOCATION:Schieder-Schwalenberg OT Wöbbel
SUMMARY:Lippe-Sommer-Serie 2025 Lauf 2: 34. Wöbbeler Volkslauf "Rund um den Hahnenberg"
UID:
SEQUENCE:0
DTSTAMP;TZID=Europe/Berlin:20260424T191331
END:VEVENT
END:VCALENDAR



