BEGIN:VCALENDAR
VERSION:2.0
PRODID:https://www.flvwdialog.de
METHOD:PUBLISH
BEGIN:VEVENT
DTSTART;TZID=Europe/Berlin:20260626T180000
DESCRIPTION:Erzeugt durch https://www.flvwdialog.de/info.php?id=21820
LOCATION:Schieder-Schwalenberg
SUMMARY:Lippe-Sommer-Serie 2025 Lauf 3: Sommerlauf um den SchiederSee
UID:
SEQUENCE:0
DTSTAMP;TZID=Europe/Berlin:20260424T220536
END:VEVENT
END:VCALENDAR



