BEGIN:VCALENDAR
VERSION:2.0
PRODID:https://www.flvwdialog.de
METHOD:PUBLISH
BEGIN:VEVENT
DTSTART;TZID=Europe/Berlin:20260906T110000
DESCRIPTION:Erzeugt durch https://www.flvwdialog.de/info.php?id=21823
LOCATION:Blomberg
SUMMARY:Sommer-Meeting
UID:
SEQUENCE:0
DTSTAMP;TZID=Europe/Berlin:20260424T220506
END:VEVENT
END:VCALENDAR



