BEGIN:VCALENDAR
VERSION:2.0
PRODID:https://www.flvwdialog.de
METHOD:PUBLISH
BEGIN:VEVENT
DTSTART;TZID=Europe/Berlin:20260426T120000
DESCRIPTION:Heute Abend Meldeschluss - Erzeugt durch https://www.flvwdialog.de/info.php?id=21824
LOCATION:Dortmund-Lanstrop
SUMMARY:Heute Abend Meldeschluss - Sprint in den Mai
UID:MS
SEQUENCE:0
DTSTAMP;TZID=Europe/Berlin:20260424T202836
END:VEVENT
END:VCALENDAR



