BEGIN:VCALENDAR
VERSION:2.0
PRODID:https://www.flvwdialog.de
METHOD:PUBLISH
BEGIN:VEVENT
DTSTART;TZID=Europe/Berlin:20260606T000000
DESCRIPTION:Erzeugt durch https://www.flvwdialog.de/info.php?id=21825
LOCATION:Dortmund-Lanstrop
SUMMARY:Summer Meeting
UID:
SEQUENCE:0
DTSTAMP;TZID=Europe/Berlin:20260424T202839
END:VEVENT
END:VCALENDAR



