BEGIN:VCALENDAR
VERSION:2.0
PRODID:https://www.flvwdialog.de
METHOD:PUBLISH
BEGIN:VEVENT
DTSTART;TZID=Europe/Berlin:20260503T000000
DESCRIPTION:Erzeugt durch https://www.flvwdialog.de/info.php?id=21842
LOCATION:Celle
SUMMARY:DM Langstaffeln M/F, U23, U20, Masters
UID:
SEQUENCE:0
DTSTAMP;TZID=Europe/Berlin:20260424T220536
END:VEVENT
END:VCALENDAR



