BEGIN:VCALENDAR
VERSION:2.0
PRODID:https://www.flvwdialog.de
METHOD:PUBLISH
BEGIN:VEVENT
DTSTART;TZID=Europe/Berlin:20260808T000000
DESCRIPTION:Erzeugt durch https://www.flvwdialog.de/info.php?id=21844
LOCATION:Baunatal
SUMMARY:DM Wurf-Mehrkampf Masters
UID:
SEQUENCE:0
DTSTAMP;TZID=Europe/Berlin:20260424T220508
END:VEVENT
END:VCALENDAR



