BEGIN:VCALENDAR
VERSION:2.0
PRODID:https://www.flvwdialog.de
METHOD:PUBLISH
BEGIN:VEVENT
DTSTART;TZID=Europe/Berlin:20260614T000000
DESCRIPTION:Erzeugt durch https://www.flvwdialog.de/info.php?id=21871
LOCATION:Düsseldorf
SUMMARY:EUROWINGS Flight Circus
UID:
SEQUENCE:0
DTSTAMP;TZID=Europe/Berlin:20260424T185458
END:VEVENT
END:VCALENDAR



