BEGIN:VCALENDAR
VERSION:2.0
PRODID:https://www.flvwdialog.de
METHOD:PUBLISH
BEGIN:VEVENT
DTSTART;TZID=Europe/Berlin:20260912T000000
DESCRIPTION:Erzeugt durch https://www.flvwdialog.de/info.php?id=21873
LOCATION:Havixbeck
SUMMARY:46. Schüler*innen-Sportfest
UID:
SEQUENCE:0
DTSTAMP;TZID=Europe/Berlin:20260423T163220
END:VEVENT
END:VCALENDAR



