BEGIN:VCALENDAR
VERSION:2.0
PRODID:https://www.flvwdialog.de
METHOD:PUBLISH
BEGIN:VEVENT
DTSTART;TZID=Europe/Berlin:20261128T130000
DESCRIPTION:Erzeugt durch https://www.flvwdialog.de/info.php?id=21874
LOCATION:Rheine
SUMMARY:40. Mesumer Adventslauf
UID:
SEQUENCE:0
DTSTAMP;TZID=Europe/Berlin:20260424T202824
END:VEVENT
END:VCALENDAR



