BEGIN:VCALENDAR
VERSION:2.0
PRODID:https://www.flvwdialog.de
METHOD:PUBLISH
BEGIN:VEVENT
DTSTART;TZID=Europe/Berlin:20260527T000000
DESCRIPTION:Erzeugt durch https://www.flvwdialog.de/info.php?id=21877
LOCATION:Hemer
SUMMARY:NRW YoungStars - Vorrunde für das Finale der Bezirksregierung Arnsberg
UID:
SEQUENCE:0
DTSTAMP;TZID=Europe/Berlin:20260424T220506
END:VEVENT
END:VCALENDAR



