BEGIN:VCALENDAR
VERSION:2.0
PRODID:https://www.flvwdialog.de
METHOD:PUBLISH
BEGIN:VEVENT
DTSTART;TZID=Europe/Berlin:20260618T000000
DESCRIPTION:Erzeugt durch https://www.flvwdialog.de/info.php?id=21882
LOCATION:Dortmund
SUMMARY:Stadtmeisterschaften der weiterführenden Schulen WK U14
UID:
SEQUENCE:0
DTSTAMP;TZID=Europe/Berlin:20260424T202823
END:VEVENT
END:VCALENDAR



