BEGIN:VCALENDAR
VERSION:2.0
PRODID:https://www.flvwdialog.de
METHOD:PUBLISH
BEGIN:VEVENT
DTSTART;TZID=Europe/Berlin:20260905T140000
DESCRIPTION:Erzeugt durch https://www.flvwdialog.de/info.php?id=21897
LOCATION:Porta Westfalica
SUMMARY:Volkslauf Eisbergen 2026
UID:
SEQUENCE:0
DTSTAMP;TZID=Europe/Berlin:20260424T204812
END:VEVENT
END:VCALENDAR



