BEGIN:VCALENDAR
VERSION:2.0
PRODID:https://www.flvwdialog.de
METHOD:PUBLISH
BEGIN:VEVENT
DTSTART;TZID=Europe/Berlin:20260523T000000
DESCRIPTION:Erzeugt durch https://www.flvwdialog.de/info.php?id=21902
LOCATION:Essen
SUMMARY:20. DJK Bundessportfest 2026 (nur DJK-Vereine!)
UID:
SEQUENCE:0
DTSTAMP;TZID=Europe/Berlin:20260424T220508
END:VEVENT
END:VCALENDAR



