BEGIN:VCALENDAR
VERSION:2.0
PRODID:https://www.flvwdialog.de
METHOD:PUBLISH
BEGIN:VEVENT
DTSTART;TZID=Europe/Berlin:20260606T100000
DESCRIPTION:Erzeugt durch https://www.flvwdialog.de/info.php?id=21904
LOCATION:Sonsbeck
SUMMARY:Sonsbecker Sparkassen Track & Jump Meeting & Region Nord Langstrecke/1500m
UID:
SEQUENCE:0
DTSTAMP;TZID=Europe/Berlin:20260424T202824
END:VEVENT
END:VCALENDAR



