BEGIN:VCALENDAR
VERSION:2.0
PRODID:https://www.flvwdialog.de
METHOD:PUBLISH
BEGIN:VEVENT
DTSTART;TZID=Europe/Berlin:20260517T000000
DESCRIPTION:Erzeugt durch https://www.flvwdialog.de/info.php?id=21905
LOCATION:Preuß. Oldendorf
SUMMARY:42. Int. Volkslauf und Wandertag
UID:
SEQUENCE:0
DTSTAMP;TZID=Europe/Berlin:20260424T220536
END:VEVENT
END:VCALENDAR



