BEGIN:VCALENDAR
VERSION:2.0
PRODID:https://www.flvwdialog.de
METHOD:PUBLISH
BEGIN:VEVENT
DTSTART;TZID=Europe/Berlin:20260501T103000
DESCRIPTION:Erzeugt durch https://www.flvwdialog.de/info.php?id=21924
LOCATION:Bad Salzuflen
SUMMARY:Bahneröffnung 2026
UID:
SEQUENCE:0
DTSTAMP;TZID=Europe/Berlin:20260421T223738
END:VEVENT
END:VCALENDAR



