BEGIN:VCALENDAR
VERSION:2.0
PRODID:https://www.flvwdialog.de
METHOD:PUBLISH
BEGIN:VEVENT
DTSTART;TZID=Europe/Berlin:20260427T120000
DESCRIPTION:Heute Abend Meldeschluss - Erzeugt durch https://www.flvwdialog.de/info.php?id=21924
LOCATION:Bad Salzuflen
SUMMARY:Heute Abend Meldeschluss - Bahneröffnung 2026
UID:MS
SEQUENCE:0
DTSTAMP;TZID=Europe/Berlin:20260421T223738
END:VEVENT
END:VCALENDAR



