BEGIN:VCALENDAR
VERSION:2.0
PRODID:https://www.flvwdialog.de
METHOD:PUBLISH
BEGIN:VEVENT
DTSTART;TZID=Europe/Berlin:20260913T000000
DESCRIPTION:Erzeugt durch https://www.flvwdialog.de/info.php?id=21937
LOCATION:Netphen
SUMMARY:CVJM Kreissportfest
UID:
SEQUENCE:0
DTSTAMP;TZID=Europe/Berlin:20260424T173058
END:VEVENT
END:VCALENDAR



