BEGIN:VCALENDAR
VERSION:2.0
PRODID:https://www.flvwdialog.de
METHOD:PUBLISH
BEGIN:VEVENT
DTSTART;TZID=Europe/Berlin:20260711T000000
DESCRIPTION:Erzeugt durch https://www.flvwdialog.de/info.php?id=21967
LOCATION:Lüdinghausen
SUMMARY:Kreismehrkampfmeisterschaften
UID:
SEQUENCE:0
DTSTAMP;TZID=Europe/Berlin:20260421T182156
END:VEVENT
END:VCALENDAR



