BEGIN:VCALENDAR
VERSION:2.0
PRODID:https://www.flvwdialog.de
METHOD:PUBLISH
BEGIN:VEVENT
DTSTART;TZID=Europe/Berlin:20260621T120000
DESCRIPTION:Heute Abend Meldeschluss - Erzeugt durch https://www.flvwdialog.de/info.php?id=21970
LOCATION:Bergkamen
SUMMARY:Heute Abend Meldeschluss - Kreiseinzelmeisterschaft
UID:MS
SEQUENCE:0
DTSTAMP;TZID=Europe/Berlin:20260424T220639
END:VEVENT
END:VCALENDAR



