BEGIN:VCALENDAR
VERSION:2.0
PRODID:https://www.flvwdialog.de
METHOD:PUBLISH
BEGIN:VEVENT
DTSTART;TZID=Europe/Berlin:20260627T100000
DESCRIPTION:Erzeugt durch https://www.flvwdialog.de/info.php?id=21973
LOCATION:Herten
SUMMARY:Kreismeisterschaften Einzel
UID:
SEQUENCE:0
DTSTAMP;TZID=Europe/Berlin:20260424T202825
END:VEVENT
END:VCALENDAR



