BEGIN:VCALENDAR
VERSION:2.0
PRODID:https://www.flvwdialog.de
METHOD:PUBLISH
BEGIN:VEVENT
DTSTART;TZID=Europe/Berlin:20260425T120000
DESCRIPTION:Erzeugt durch https://www.flvwdialog.de/info.php?id=21974
LOCATION:Kamen
SUMMARY:Saisoneröffnung im Kamener Jahnstadion
UID:
SEQUENCE:0
DTSTAMP;TZID=Europe/Berlin:20260420T162320
END:VEVENT
END:VCALENDAR



