BEGIN:VCALENDAR
VERSION:2.0
PRODID:https://www.flvwdialog.de
METHOD:PUBLISH
BEGIN:VEVENT
DTSTART;TZID=Europe/Berlin:20260528T000000
DESCRIPTION:Erzeugt durch https://www.flvwdialog.de/info.php?id=21978
LOCATION:N.N.
SUMMARY:Stadtwerke Westparklauf der Bochumer Schulen
UID:
SEQUENCE:0
DTSTAMP;TZID=Europe/Berlin:20260424T202822
END:VEVENT
END:VCALENDAR



