BEGIN:VCALENDAR
VERSION:2.0
PRODID:https://www.flvwdialog.de
METHOD:PUBLISH
BEGIN:VEVENT
DTSTART;TZID=Europe/Berlin:20260627T120000
DESCRIPTION:Erzeugt durch https://www.flvwdialog.de/info.php?id=21980
LOCATION:Blomberg
SUMMARY:Ostwestfälische Mehrkampf- und Blockwettkampfmeisterschaften
UID:
SEQUENCE:0
DTSTAMP;TZID=Europe/Berlin:20260424T220508
END:VEVENT
END:VCALENDAR



