BEGIN:VCALENDAR
VERSION:2.0
PRODID:https://www.flvwdialog.de
METHOD:PUBLISH
BEGIN:VEVENT
DTSTART;TZID=Europe/Berlin:20260622T120000
DESCRIPTION:Heute Abend Meldeschluss - Erzeugt durch https://www.flvwdialog.de/info.php?id=21980
LOCATION:Blomberg
SUMMARY:Heute Abend Meldeschluss - Ostwestfälische Mehrkampf- und Blockwettkampfmeisterschaften
UID:MS
SEQUENCE:0
DTSTAMP;TZID=Europe/Berlin:20260424T220535
END:VEVENT
END:VCALENDAR



