BEGIN:VCALENDAR
VERSION:2.0
PRODID:https://www.flvwdialog.de
METHOD:PUBLISH
BEGIN:VEVENT
DTSTART;TZID=Europe/Berlin:20260926T150000
DESCRIPTION:Erzeugt durch https://www.flvwdialog.de/info.php?id=21986
LOCATION:Wadersloh
SUMMARY:11. Hochsprungtag
UID:
SEQUENCE:0
DTSTAMP;TZID=Europe/Berlin:20260421T134606
END:VEVENT
END:VCALENDAR



