BEGIN:VCALENDAR
VERSION:2.0
PRODID:https://www.flvwdialog.de
METHOD:PUBLISH
BEGIN:VEVENT
DTSTART;TZID=Europe/Berlin:20260530T143000
DESCRIPTION:Erzeugt durch https://www.flvwdialog.de/info.php?id=21987
LOCATION:Wadersloh
SUMMARY:11. Schüler Mehrkampf
UID:
SEQUENCE:0
DTSTAMP;TZID=Europe/Berlin:20260423T163221
END:VEVENT
END:VCALENDAR



