BEGIN:VCALENDAR
VERSION:2.0
PRODID:https://www.flvwdialog.de
METHOD:PUBLISH
BEGIN:VEVENT
DTSTART;TZID=Europe/Berlin:20260526T120000
DESCRIPTION:Heute Abend Meldeschluss - Erzeugt durch https://www.flvwdialog.de/info.php?id=21987
LOCATION:Wadersloh
SUMMARY:Heute Abend Meldeschluss - 11. Schüler Mehrkampf
UID:MS
SEQUENCE:0
DTSTAMP;TZID=Europe/Berlin:20260423T163302
END:VEVENT
END:VCALENDAR



