BEGIN:VCALENDAR
VERSION:2.0
PRODID:https://www.flvwdialog.de
METHOD:PUBLISH
BEGIN:VEVENT
DTSTART;TZID=Europe/Berlin:20260621T120000
DESCRIPTION:Heute Abend Meldeschluss - Erzeugt durch https://www.flvwdialog.de/info.php?id=22106
LOCATION:Beckum
SUMMARY:Heute Abend Meldeschluss - Super 7 - Mehrkampf
UID:MS
SEQUENCE:0
DTSTAMP;TZID=Europe/Berlin:20260422T000134
END:VEVENT
END:VCALENDAR



