BEGIN:VCALENDAR
VERSION:2.0
PRODID:https://www.flvwdialog.de
METHOD:PUBLISH
BEGIN:VEVENT
DTSTART;TZID=Europe/Berlin:20260429T120000
DESCRIPTION:Heute Abend Meldeschluss - Erzeugt durch https://www.flvwdialog.de/info.php?id=22107
LOCATION:Halver
SUMMARY:Heute Abend Meldeschluss - 11. Maxwelt24-Cup, Teil 1
UID:MS
SEQUENCE:0
DTSTAMP;TZID=Europe/Berlin:20260421T223738
END:VEVENT
END:VCALENDAR



