BEGIN:VCALENDAR
VERSION:2.0
PRODID:https://www.flvwdialog.de
METHOD:PUBLISH
BEGIN:VEVENT
DTSTART;TZID=Europe/Berlin:20260509T000000
DESCRIPTION:Erzeugt durch https://www.flvwdialog.de/info.php?id=22108
LOCATION:Havixbeck
SUMMARY:Münsterlandmeisterschaften
UID:
SEQUENCE:0
DTSTAMP;TZID=Europe/Berlin:20260421T182833
END:VEVENT
END:VCALENDAR



