BEGIN:VCALENDAR
VERSION:2.0
PRODID:https://www.flvwdialog.de
METHOD:PUBLISH
BEGIN:VEVENT
DTSTART;TZID=Europe/Berlin:20260504T120000
DESCRIPTION:Heute Abend Meldeschluss - Erzeugt durch https://www.flvwdialog.de/info.php?id=22108
LOCATION:Havixbeck
SUMMARY:Heute Abend Meldeschluss - Münsterlandmeisterschaften
UID:MS
SEQUENCE:0
DTSTAMP;TZID=Europe/Berlin:20260421T182942
END:VEVENT
END:VCALENDAR



