BEGIN:VCALENDAR
VERSION:2.0
PRODID:https://www.flvwdialog.de
METHOD:PUBLISH
BEGIN:VEVENT
DTSTART;TZID=Europe/Berlin:20260926T170000
DESCRIPTION:Erzeugt durch https://www.flvwdialog.de/info.php?id=22110
LOCATION:Bad Honnef
SUMMARY:6. Glow-in-the-dark-Sportfest
UID:
SEQUENCE:0
DTSTAMP;TZID=Europe/Berlin:20260421T134606
END:VEVENT
END:VCALENDAR



