BEGIN:VCALENDAR
VERSION:2.0
PRODID:https://www.flvwdialog.de
METHOD:PUBLISH
BEGIN:VEVENT
DTSTART;TZID=Europe/Berlin:20260919T120000
DESCRIPTION:Heute Abend Meldeschluss - Erzeugt durch https://www.flvwdialog.de/info.php?id=22110
LOCATION:Bad Honnef
SUMMARY:Heute Abend Meldeschluss - 6. Glow-in-the-dark-Sportfest
UID:MS
SEQUENCE:0
DTSTAMP;TZID=Europe/Berlin:20260421T134606
END:VEVENT
END:VCALENDAR



