BEGIN:VCALENDAR
VERSION:2.0
PRODID:https://www.flvwdialog.de
METHOD:PUBLISH
BEGIN:VEVENT
DTSTART;TZID=Europe/Berlin:20260521T120000
DESCRIPTION:Heute Abend Meldeschluss - Erzeugt durch https://www.flvwdialog.de/info.php?id=22111
LOCATION:Mönchengladbach
SUMMARY:Heute Abend Meldeschluss - 39. Großes LGM Pfingstsportfest
UID:MS
SEQUENCE:0
DTSTAMP;TZID=Europe/Berlin:20260424T215754
END:VEVENT
END:VCALENDAR



