BEGIN:VCALENDAR
VERSION:2.0
PRODID:https://www.flvwdialog.de
METHOD:PUBLISH
BEGIN:VEVENT
DTSTART;TZID=Europe/Berlin:20260514T000000
DESCRIPTION:Erzeugt durch https://www.flvwdialog.de/info.php?id=22112
LOCATION:Köln
SUMMARY:Christi-Himmelfahrt-Sportfest des TuS Köln rrh
UID:
SEQUENCE:0
DTSTAMP;TZID=Europe/Berlin:20260424T220508
END:VEVENT
END:VCALENDAR



