BEGIN:VCALENDAR
VERSION:2.0
PRODID:https://www.flvwdialog.de
METHOD:PUBLISH
BEGIN:VEVENT
DTSTART;TZID=Europe/Berlin:20260508T120000
DESCRIPTION:Heute Abend Meldeschluss - Erzeugt durch https://www.flvwdialog.de/info.php?id=22112
LOCATION:Köln
SUMMARY:Heute Abend Meldeschluss - Christi-Himmelfahrt-Sportfest des TuS Köln rrh
UID:MS
SEQUENCE:0
DTSTAMP;TZID=Europe/Berlin:20260424T202837
END:VEVENT
END:VCALENDAR



