BEGIN:VCALENDAR
VERSION:2.0
PRODID:https://www.flvwdialog.de
METHOD:PUBLISH
BEGIN:VEVENT
DTSTART;TZID=Europe/Berlin:20260619T120000
DESCRIPTION:Heute Abend Meldeschluss - Erzeugt durch https://www.flvwdialog.de/info.php?id=22113
LOCATION:Rhede
SUMMARY:Heute Abend Meldeschluss - LAZ Rhede - Hammerwurfmeeting
UID:MS
SEQUENCE:0
DTSTAMP;TZID=Europe/Berlin:20260424T202837
END:VEVENT
END:VCALENDAR



