BEGIN:VCALENDAR
VERSION:2.0
PRODID:https://www.flvwdialog.de
METHOD:PUBLISH
BEGIN:VEVENT
DTSTART;TZID=Europe/Berlin:20261112T000000
DESCRIPTION:Erzeugt durch https://www.flvwdialog.de/info.php?id=22154
LOCATION:Dortmund
SUMMARY:NRW Landesfinale Hören und Kommunikation
UID:
SEQUENCE:0
DTSTAMP;TZID=Europe/Berlin:20260421T235918
END:VEVENT
END:VCALENDAR



