BEGIN:VCALENDAR
VERSION:2.0
PRODID:https://www.flvwdialog.de
METHOD:PUBLISH
BEGIN:VEVENT
DTSTART;TZID=Europe/Berlin:20260808T000000
DESCRIPTION:Erzeugt durch https://www.flvwdialog.de/info.php?id=22157
LOCATION:Köln
SUMMARY:Leichtathletik - Janus Queer Games 2026
UID:
SEQUENCE:0
DTSTAMP;TZID=Europe/Berlin:20260421T235918
END:VEVENT
END:VCALENDAR



