BEGIN:VCALENDAR
VERSION:2.0
PRODID:https://www.flvwdialog.de
METHOD:PUBLISH
BEGIN:VEVENT
DTSTART;TZID=Europe/Berlin:20260627T000000
DESCRIPTION:Erzeugt durch https://www.flvwdialog.de/info.php?id=22168
LOCATION:Dortmund
SUMMARY:JumpnRun Meeting
UID:
SEQUENCE:0
DTSTAMP;TZID=Europe/Berlin:20260420T174534
END:VEVENT
END:VCALENDAR



