BEGIN:VCALENDAR
VERSION:2.0
PRODID:https://www.flvwdialog.de
METHOD:PUBLISH
BEGIN:VEVENT
DTSTART;TZID=Europe/Berlin:20260829T110000
DESCRIPTION:Erzeugt durch https://www.flvwdialog.de/info.php?id=22169
LOCATION:Bad Laasphe
SUMMARY:5. Panorama - Run - Bad Laasphe
UID:
SEQUENCE:0
DTSTAMP;TZID=Europe/Berlin:20260421T235918
END:VEVENT
END:VCALENDAR



